BEGIN:VCALENDAR
VERSION:2.0
PRODID:-//BridgeUniverse - TEFL Blog, News, Tips &amp; Resources - ECPv6.15.14//NONSGML v1.0//EN
CALSCALE:GREGORIAN
METHOD:PUBLISH
X-WR-CALNAME:BridgeUniverse - TEFL Blog, News, Tips &amp; Resources
X-ORIGINAL-URL:https://bridge.edu/tefl/blog
X-WR-CALDESC:Events for BridgeUniverse - TEFL Blog, News, Tips &amp; Resources
REFRESH-INTERVAL;VALUE=DURATION:PT1H
X-Robots-Tag:noindex
X-PUBLISHED-TTL:PT1H
BEGIN:VTIMEZONE
TZID:America/Denver
BEGIN:DAYLIGHT
TZOFFSETFROM:-0700
TZOFFSETTO:-0600
TZNAME:MDT
DTSTART:20250309T090000
END:DAYLIGHT
BEGIN:STANDARD
TZOFFSETFROM:-0600
TZOFFSETTO:-0700
TZNAME:MST
DTSTART:20251102T080000
END:STANDARD
BEGIN:DAYLIGHT
TZOFFSETFROM:-0700
TZOFFSETTO:-0600
TZNAME:MDT
DTSTART:20260308T090000
END:DAYLIGHT
BEGIN:STANDARD
TZOFFSETFROM:-0600
TZOFFSETTO:-0700
TZNAME:MST
DTSTART:20261101T080000
END:STANDARD
BEGIN:DAYLIGHT
TZOFFSETFROM:-0700
TZOFFSETTO:-0600
TZNAME:MDT
DTSTART:20270314T090000
END:DAYLIGHT
BEGIN:STANDARD
TZOFFSETFROM:-0600
TZOFFSETTO:-0700
TZNAME:MST
DTSTART:20271107T080000
END:STANDARD
END:VTIMEZONE
BEGIN:VEVENT
DTSTART;VALUE=DATE:20260421
DTEND;VALUE=DATE:20260425
DTSTAMP:20260422T054555
CREATED:20250714T220135Z
LAST-MODIFIED:20250714T220135Z
UID:39806-1776729600-1777075199@bridge.edu
SUMMARY:IATEFL International Conference and Exhibition 2026
DESCRIPTION:Join us for the 2026 IATEFL International Conference and Exhibition in the beautiful seaside resort of Brighton in south-east England.\nThis international festival of the English language teaching profession runs from Tuesday 21 April to Friday 24 April 2026\, with Pre-Conference Events being held on Monday 20 April. \nThe IATEFL Conference is a 4 day celebration of the English language teaching profession with over 600 academic sessions\, an exhibition of all that’s new in the world of English language teaching\, and a busy social programme of fun evening events and opportunities to network and be part of the global community of ELT professionals. The academic programme includes headline plenaries\, presentations\, workshops\, panel discussions\, lightning talks and poster presentations. \nREGISTER HERE
URL:https://bridge.edu/tefl/blog/event/iatefl-international-conference-and-exhibition-2026/
LOCATION:The Brighton Centre\, Brighton\, UK
ATTACH;FMTTYPE=image/png:https://bridge.edu/tefl/blog/wp-content/uploads/2025/07/IATEFL-2026.png
END:VEVENT
END:VCALENDAR